{
 "currentVersion": 10.9,
 "cimVersion": "2.7.0",
 "serviceDescription": "",
 "mapName": "VejDrift",
 "description": "",
 "copyrightText": "",
 "supportsDynamicLayers": false,
 "layers": [
  {
   "id": 3,
   "name": "Privat fællesveje og stier med offentlig vedligehold",
   "parentLayerId": -1,
   "defaultVisibility": true,
   "subLayerIds": null,
   "minScale": 100000,
   "maxScale": 0,
   "type": "Feature Layer",
   "geometryType": "esriGeometryPolyline",
   "supportsDynamicLegends": true
  },
  {
   "id": 4,
   "name": "Funktionskontrakt",
   "parentLayerId": -1,
   "defaultVisibility": true,
   "subLayerIds": null,
   "minScale": 0,
   "maxScale": 0,
   "type": "Feature Layer",
   "geometryType": "esriGeometryPolyline",
   "supportsDynamicLegends": true
  },
  {
   "id": 6,
   "name": "Nedlagt Bygasnet",
   "parentLayerId": -1,
   "defaultVisibility": true,
   "subLayerIds": [
    7,
    8
   ],
   "minScale": 0,
   "maxScale": 0,
   "type": "Group Layer",
   "supportsDynamicLegends": false
  },
  {
   "id": 7,
   "name": "Bygas - Punkter",
   "parentLayerId": 6,
   "defaultVisibility": true,
   "subLayerIds": null,
   "minScale": 0,
   "maxScale": 0,
   "type": "Feature Layer",
   "geometryType": "esriGeometryPoint",
   "supportsDynamicLegends": true
  },
  {
   "id": 8,
   "name": "Bygas - Ledninger",
   "parentLayerId": 6,
   "defaultVisibility": true,
   "subLayerIds": null,
   "minScale": 0,
   "maxScale": 0,
   "type": "Feature Layer",
   "geometryType": "esriGeometryPolyline",
   "supportsDynamicLegends": true
  },
  {
   "id": 9,
   "name": "VejInventar",
   "parentLayerId": -1,
   "defaultVisibility": true,
   "subLayerIds": [
    10,
    13,
    12
   ],
   "minScale": 0,
   "maxScale": 0,
   "type": "Group Layer",
   "supportsDynamicLegends": false
  },
  {
   "id": 10,
   "name": "VejInventar - Placering",
   "parentLayerId": 9,
   "defaultVisibility": true,
   "subLayerIds": null,
   "minScale": 0,
   "maxScale": 0,
   "type": "Feature Layer",
   "geometryType": "esriGeometryPoint",
   "supportsDynamicLegends": true
  },
  {
   "id": 13,
   "name": "VejInventar - Ledninger",
   "parentLayerId": 9,
   "defaultVisibility": true,
   "subLayerIds": null,
   "minScale": 0,
   "maxScale": 0,
   "type": "Feature Layer",
   "geometryType": "esriGeometryPolyline",
   "supportsDynamicLegends": true
  },
  {
   "id": 12,
   "name": "VejInventar - Ledningernes udstrækning",
   "parentLayerId": 9,
   "defaultVisibility": true,
   "subLayerIds": null,
   "minScale": 0,
   "maxScale": 0,
   "type": "Feature Layer",
   "geometryType": "esriGeometryPolygon",
   "supportsDynamicLegends": true
  }
 ],
 "tables": [],
 "spatialReference": {
  "wkid": 25832,
  "latestWkid": 25832,
  "xyTolerance": 0.001,
  "zTolerance": 0.001,
  "mTolerance": 0.001,
  "falseX": -5120900,
  "falseY": -9998100,
  "xyUnits": 10000,
  "falseZ": -100000,
  "zUnits": 10000,
  "falseM": -100000,
  "mUnits": 10000
 },
 "singleFusedMapCache": true,
 "tileInfo": {
  "rows": 256,
  "cols": 256,
  "dpi": 96,
  "format": "PNG",
  "compressionQuality": 0,
  "origin": {
   "x": -9497963.942936342,
   "y": 9997963.942936342
  },
  "spatialReference": {
   "wkid": 25832,
   "latestWkid": 25832,
   "xyTolerance": 0.001,
   "zTolerance": 0.001,
   "mTolerance": 0.001,
   "falseX": -5120900,
   "falseY": -9998100,
   "xyUnits": 10000,
   "falseZ": -100000,
   "zUnits": 10000,
   "falseM": -100000,
   "mUnits": 10000
  },
  "lods": [
   {
    "level": 0,
    "resolution": 78109.09330419017,
    "scale": 2.952154707559943E8
   },
   {
    "level": 1,
    "resolution": 39054.54665209509,
    "scale": 1.4760773537799716E8
   },
   {
    "level": 2,
    "resolution": 19527.273326047543,
    "scale": 7.380386768899858E7
   },
   {
    "level": 3,
    "resolution": 9763.636663023772,
    "scale": 3.690193384449929E7
   },
   {
    "level": 4,
    "resolution": 4881.818331511886,
    "scale": 1.8450966922249645E7
   },
   {
    "level": 5,
    "resolution": 2440.909165755943,
    "scale": 9225483.461124822
   },
   {
    "level": 6,
    "resolution": 1220.4545828779715,
    "scale": 4612741.730562411
   },
   {
    "level": 7,
    "resolution": 610.2272914389857,
    "scale": 2306370.8652812056
   },
   {
    "level": 8,
    "resolution": 305.11364571949287,
    "scale": 1153185.4326406028
   },
   {
    "level": 9,
    "resolution": 152.55682285974643,
    "scale": 576592.7163203014
   },
   {
    "level": 10,
    "resolution": 76.27841142987322,
    "scale": 288296.3581601507
   },
   {
    "level": 11,
    "resolution": 38.13920571493661,
    "scale": 144148.17908007535
   },
   {
    "level": 12,
    "resolution": 19.069602857468304,
    "scale": 72074.08954003768
   },
   {
    "level": 13,
    "resolution": 9.534801428734152,
    "scale": 36037.04477001884
   },
   {
    "level": 14,
    "resolution": 4.767400714367076,
    "scale": 18018.52238500942
   },
   {
    "level": 15,
    "resolution": 2.383700357183538,
    "scale": 9009.26119250471
   },
   {
    "level": 16,
    "resolution": 1.191850178591769,
    "scale": 4504.630596252355
   },
   {
    "level": 17,
    "resolution": 0.5959250892958845,
    "scale": 2252.3152981261774
   },
   {
    "level": 18,
    "resolution": 0.29796254464794225,
    "scale": 1126.1576490630887
   }
  ]
 },
 "initialExtent": {
  "xmin": 525501.3901369417,
  "ymin": 6143465.585571588,
  "xmax": 539403.0072735093,
  "ymax": 6153289.64788638,
  "spatialReference": {
   "wkid": 25832,
   "latestWkid": 25832,
   "xyTolerance": 0.001,
   "zTolerance": 0.001,
   "mTolerance": 0.001,
   "falseX": -5120900,
   "falseY": -9998100,
   "xyUnits": 10000,
   "falseZ": -100000,
   "zUnits": 10000,
   "falseM": -100000,
   "mUnits": 10000
  }
 },
 "fullExtent": {
  "xmin": 515791.1601999998,
  "ymin": 6130684.278499989,
  "xmax": 543783.6184,
  "ymax": 6164975.050499989,
  "spatialReference": {
   "wkid": 25832,
   "latestWkid": 25832,
   "xyTolerance": 0.001,
   "zTolerance": 0.001,
   "mTolerance": 0.001,
   "falseX": -5120900,
   "falseY": -9998100,
   "xyUnits": 10000,
   "falseZ": -100000,
   "zUnits": 10000,
   "falseM": -100000,
   "mUnits": 10000
  }
 },
 "units": "esriMeters",
 "supportedImageFormatTypes": "PNG32,PNG24,PNG,JPG,DIB,TIFF,EMF,PS,PDF,GIF,SVG,SVGZ,BMP",
 "documentInfo": {
  "Title": "Privat fællesvej med offentlig vedligehold",
  "Author": "",
  "Comments": "",
  "Subject": "Privat fællesvej med offentlig vedligehold (Vej og Park)",
  "Category": "",
  "AntialiasingMode": "Fast",
  "TextAntialiasingMode": "Force",
  "Version": "2.7.0",
  "Keywords": "Privat fællesvej med offentlig vedligehold"
 },
 "supportedQueryFormats": "JSON, geoJSON, PBF",
 "referenceScale": 0.0,
 "datumTransformations": [
  {
   "geoTransforms": [
    {
     "wkid": 1149,
     "latestWkid": 1149,
     "transformForward": false,
     "name": "ETRS_1989_To_WGS_1984"
    }
   ]
  },
  {
   "geoTransforms": [
    {
     "wkid": 1149,
     "latestWkid": 1149,
     "transformForward": true,
     "name": "ETRS_1989_To_WGS_1984"
    }
   ]
  }
 ],
 "supportsDatumTransformation": true,
 "archivingInfo": {
  "supportsHistoricMoment": false
 },
 "supportsClipping": true,
 "supportsSpatialFilter": true,
 "supportsQueryDataElements": true,
 "maxRecordCount": 1000,
 "maxImageHeight": 4096,
 "maxImageWidth": 4096,
 "capabilities": "TilesOnly,Tilemap",
 "minScale": 288296,
 "maxScale": 9009,
 "exportTilesAllowed": false,
 "maxExportTilesCount": 100000,
 "supportedExtensions": "",
 "serviceItemId": "df9d5a70d14847fd858f7b62115a0a0f"
}
